BEGIN:VCALENDAR
VERSION:2.0
PRODID:-//wp-events-plugin.com//6.4.7.3//EN
TZID:Asia/Tokyo
X-WR-TIMEZONE:Asia/Tokyo
BEGIN:VEVENT
UID:3588@one-game.jp
DTSTART;TZID=Asia/Tokyo:20260113T180000
DTEND;TZID=Asia/Tokyo:20260113T200000
DTSTAMP:20251220T103654Z
URL:https://one-game.jp/events/tsunakawa_260113_1
SUMMARY:綱川隆晃先生勉強会
DESCRIPTION:【綱川隆晃先生勉強会】\n4名限定！！\n少人数
 で綱川先生の思考をしっかりと吸収しよう！\n撮影卓を
 使用し、音声ありで講義後ご自宅で振り返りもできま
 す☆\n\n1部（18時〜20時）\n2部（20時半〜22時半）\n\n＜講
 義料＞：5000円\n＜ルール＞Mリーグルール\n\n＜講師＞綱
 川隆晃プロ（日本プロ麻雀協会）\n\n＜参加資格＞ モ
 チベーションの高い方 麻雀が強くなりたい方 初心
 者の方大歓迎です☆彡 点数計算わからなくてもOKです
 ☆彡\n\n※備考欄に麻雀歴や課題感など入れていただけ
 るとスムーズです！\n\n＜お問い合わせ＞\nOneGameのTwitter
  https://twitter.com/onegame_onegame DMまでお願いします\n\nキ
 ャンセル料についてはこちらをご確認ください\nhttps://o
 ne-game.jp/cancel-policy\n ※非常に残念ながら18歳未満・高
 校生の方はご利用できません
ATTACH;FMTTYPE=image/jpeg:https://one-game.jp/wp-content/uploads/2025/07/l
 ine_oa_chat_250720_005118.jpg
LOCATION:麻雀スクールOneGame\, 神田須田町1-13-1 リアライズ
 神田ビル3階\, 千代田区\, 東京都\, 101-0041\, 関東地方\, Ja
 pan
X-APPLE-STRUCTURED-LOCATION;VALUE=URI;X-ADDRESS=神田須田町1-13-1 リ
 アライズ神田ビル3階\, 千代田区\, 東京都\, 101-0041\, 関
 東地方\, Japan;X-APPLE-RADIUS=100;X-TITLE=麻雀スクールOneGame:geo
 :0,0
END:VEVENT
BEGIN:VTIMEZONE
TZID:Asia/Tokyo
X-LIC-LOCATION:Asia/Tokyo
BEGIN:STANDARD
DTSTART:20250113T180000
TZOFFSETFROM:+0900
TZOFFSETTO:+0900
TZNAME:JST
END:STANDARD
END:VTIMEZONE
END:VCALENDAR