BEGIN:VCALENDAR
VERSION:2.0
PRODID:-//wp-events-plugin.com//6.4.7.3//EN
TZID:Asia/Tokyo
X-WR-TIMEZONE:Asia/Tokyo
BEGIN:VEVENT
UID:1012@one-game.jp
DTSTART;TZID=Asia/Tokyo:20230827T150000
DTEND;TZID=Asia/Tokyo:20230827T173000
DTSTAMP:20230826T042342Z
URL:https://one-game.jp/events/m%e3%83%aa%e3%83%bc%e3%82%b0%e3%83%ab%e3%83
 %bc%e3%83%ab%e5%8b%89%e5%bc%b7%e4%bc%9a%e3%80%80%e8%ac%9b%e5%b8%ab%ef%bc%9
 a%e9%88%b4%e6%9c%a8%e5%84%aa%e3%83%97%e3%83%ad-12
SUMMARY:Mリーグルール勉強会　講師：鈴木優プロ
DESCRIPTION:Mリーグルール勉強会　講師：鈴木優プロ\n開催
 日: 2023年 8月27日（日）\n開催地: 東京都千代田区神田須
 田町1-13-1　3階　麻雀スクールOneGame\n\n＜参加資格＞\n麻
 雀が強くなりたい方\n初心者の方大歓迎です☆彡\n点数
 計算わからなくてもOKです☆彡\n\n＜時間・募集人数＞\n
 ①部：12時00分～14時30分　募集枠12名\nレベル別に卓組
 みする予定です\n②部：15時00分～17時30分　募集枠12名\n
 \n\nレベル別に卓組みする予定です\n\n\n【先着順になり
 ます】\n予約優先券をご利用の方はラインオフィシャル
 にてお問い合わせください☆\n①部：麻雀講義：対局中
 の思考\n\n\n＜実際に麻雀を打って、鈴木優先生にたく
 さん質問しよう！＞\n\n\n②部：麻雀講義：対局中の思
 考\n＜実際に麻雀を打って、鈴木優先生にたくさん質問
 しよう！＞\n\n\n\n\n1部あたり受講料5\,000円\n\n\n\n\n＜ル
 ール＞\nMリーグルール\n\n＜具体的な勉強会内容＞\n麻
 雀講義+麻雀をしながら鈴木優先生にたくさん質問しよ
 う☆\n\n\n＜お問い合わせ＞OneGameのTwitter\nhttps://twitter.com
 /onegame_onegame DMまでお願いします\n
ATTACH;FMTTYPE=image/jpeg:https://one-game.jp/wp-content/uploads/2023/04/S
 napshot_1133.png
CATEGORIES:鈴木優プロ勉強会
LOCATION:麻雀スクールOneGame\, 神田須田町1-13-1 リアライズ
 神田ビル3階\, 千代田区\, 東京都\, 101-0041\, 関東地方\, Ja
 pan
X-APPLE-STRUCTURED-LOCATION;VALUE=URI;X-ADDRESS=神田須田町1-13-1 リ
 アライズ神田ビル3階\, 千代田区\, 東京都\, 101-0041\, 関
 東地方\, Japan;X-APPLE-RADIUS=100;X-TITLE=麻雀スクールOneGame:geo
 :0,0
END:VEVENT
BEGIN:VTIMEZONE
TZID:Asia/Tokyo
X-LIC-LOCATION:Asia/Tokyo
BEGIN:STANDARD
DTSTART:20220827T150000
TZOFFSETFROM:+0900
TZOFFSETTO:+0900
TZNAME:JST
END:STANDARD
END:VTIMEZONE
END:VCALENDAR