BEGIN:VCALENDAR
VERSION:2.0
PRODID:-//wp-events-plugin.com//6.4.7.3//EN
TZID:Asia/Tokyo
X-WR-TIMEZONE:Asia/Tokyo
BEGIN:VEVENT
UID:1036@one-game.jp
DTSTART;TZID=Asia/Tokyo:20230928T170000
DTEND;TZID=Asia/Tokyo:20230928T193000
DTSTAMP:20230922T091102Z
URL:https://one-game.jp/events/m%e3%83%aa%e3%83%bc%e3%82%b0%e3%83%ab%e3%83
 %bc%e3%83%ab%e5%8b%89%e5%bc%b7%e4%bc%9a%e3%80%80%e8%ac%9b%e5%b8%ab%ef%bc%9
 a%e6%9d%91%e4%b8%8a%e6%b7%b3%e3%83%97%e3%83%ad
SUMMARY:Mリーグルール勉強会　講師：村上淳プロ
DESCRIPTION:開催日: 2023年 ９月28日（木）\n開催地: 東京都
 千代田区神田須田町1-13-1　3階　麻雀スクールOneGame\n＜
 参加資格＞\n麻雀が強くなりたい方\n初心者の方大歓迎
 です☆彡\n点数計算わからなくてもOKです☆彡＜時間・
 募集人数＞\n①部：17時00分～19時30分　募集枠12名\nレベ
 ル別に卓組みする予定です\n②部：20時00分～22時30分　
 募集枠12名\n\n\nレベル別に卓組みする予定です\n\n\n＜講
 義内容＞\n\n①部：麻雀講義：\n＜実際に麻雀を打って
 、村上淳先生にたくさん質問しよう！＞\n②部：麻雀講
 義：\n＜実際に麻雀を打って、村上淳先生にたくさん質
 問しよう！＞\n\n\n\n1部あたり\n\n\n受講料5\,000円\n\n＜ル
 ール＞\nMリーグルール\n\n＜具体的な勉強会内容＞\n講
 義内容を意識して、麻雀をしながら村上淳先生にたく
 さん質問しよう☆\n\n\n＜お問い合わせ＞OneGameのTwitter\nh
 ttps://twitter.com/onegame_onegame DMまでお願いします\n※非常
 に残念ながら18歳未満の方はご利用できません\n\n
ATTACH;FMTTYPE=image/jpeg:https://one-game.jp/wp-content/uploads/2023/08/I
 MG_5276.jpeg
CATEGORIES:村上淳プロ勉強会
LOCATION:麻雀スクールOneGame\, 神田須田町1-13-1 リアライズ
 神田ビル3階\, 千代田区\, 東京都\, 101-0041\, 関東地方\, Ja
 pan
X-APPLE-STRUCTURED-LOCATION;VALUE=URI;X-ADDRESS=神田須田町1-13-1 リ
 アライズ神田ビル3階\, 千代田区\, 東京都\, 101-0041\, 関
 東地方\, Japan;X-APPLE-RADIUS=100;X-TITLE=麻雀スクールOneGame:geo
 :0,0
END:VEVENT
BEGIN:VTIMEZONE
TZID:Asia/Tokyo
X-LIC-LOCATION:Asia/Tokyo
BEGIN:STANDARD
DTSTART:20220928T170000
TZOFFSETFROM:+0900
TZOFFSETTO:+0900
TZNAME:JST
END:STANDARD
END:VTIMEZONE
END:VCALENDAR