BEGIN:VCALENDAR
VERSION:2.0
PRODID:-//wp-events-plugin.com//6.4.7.3//EN
TZID:Asia/Tokyo
X-WR-TIMEZONE:Asia/Tokyo
BEGIN:VEVENT
UID:1033@one-game.jp
DTSTART;TZID=Asia/Tokyo:20230806T130000
DTEND;TZID=Asia/Tokyo:20230806T170000
DTSTAMP:20230802T121723Z
URL:https://one-game.jp/events/%ef%bc%9conegame%ef%bc%9e%e9%ba%bb%e9%9b%80
 %e5%bf%9c%e6%8f%b4%e4%bc%81%e7%94%bb-10
SUMMARY:＜ONEGAME＞麻雀応援企画
DESCRIPTION:\nたくさん麻雀を打ってたくさん質問・勉強し
 よう！！\n初めての方も安心して参加出来ます☆\n\n\n【
 料金】各部2000円（女性500円引き）\n\n\n【担当】久山先
 生\n\n６日（日）\n1部：13時〜17時　12名\n2部：18時～22時
 　12名\n\n\n\n\n勉強会出ていなくても参加出来ます・初
 心者のかた/麻雀に慣れたいかた大歓迎！！\n\n◆とにか
 く楽しく麻雀をする会◆\nとにかく麻雀を打ってわから
 ない所は、手を挙げて質問出来ます‼\n\n◆安心！レベ
 ルに合わせて卓組します◆\n知り合いの方、2人、3人、4
 人で参加もＯＫ‼\n\nラインオフィシャルからの予約OK
 ‼\n\n＜点数計算苦手な方でも大丈夫＞\n＜リアル麻雀
 不慣れでもOK！＞\n＜難しいマナー面のアドバイスもあ
 り＞\n\nONEGAME講習内容‼＜レベルに合わせて卓組します
 ＞\n\n・とにかく楽しく麻雀をする会\n・わからない場
 面は、質問して聞く事が出来ます\n・点数計算苦手な方
 もOK!!やりながら少しずつ慣れていこう！！\n\nたくさん
 麻雀をしよう！！\n\n＜勉強会＞レベル☆～レベル☆☆
 ☆☆\n\n\n
ATTACH;FMTTYPE=image/jpeg:https://one-game.jp/wp-content/uploads/2022/05/S
 napshot_218.png
CATEGORIES:【麻雀入門コース】担当：秋場先生
LOCATION:麻雀スクールOneGame\, 神田須田町1-13-1 リアライズ
 神田ビル3階\, 千代田区\, 東京都\, 101-0041\, 関東地方\, Ja
 pan
X-APPLE-STRUCTURED-LOCATION;VALUE=URI;X-ADDRESS=神田須田町1-13-1 リ
 アライズ神田ビル3階\, 千代田区\, 東京都\, 101-0041\, 関
 東地方\, Japan;X-APPLE-RADIUS=100;X-TITLE=麻雀スクールOneGame:geo
 :0,0
END:VEVENT
BEGIN:VTIMEZONE
TZID:Asia/Tokyo
X-LIC-LOCATION:Asia/Tokyo
BEGIN:STANDARD
DTSTART:20220806T130000
TZOFFSETFROM:+0900
TZOFFSETTO:+0900
TZNAME:JST
END:STANDARD
END:VTIMEZONE
END:VCALENDAR