BEGIN:VCALENDAR
VERSION:2.0
PRODID:-//wp-events-plugin.com//6.4.7.3//EN
TZID:Asia/Tokyo
X-WR-TIMEZONE:Asia/Tokyo
BEGIN:VEVENT
UID:1008@one-game.jp
DTSTART;TZID=Asia/Tokyo:20230817T201500
DTEND;TZID=Asia/Tokyo:20230817T221500
DTSTAMP:20230803T035103Z
URL:https://one-game.jp/events/%ef%bc%9conegame%ef%bc%9e%e7%82%b9%e6%95%b0
 %e8%a8%88%e7%ae%97%e5%bc%b7%e5%8c%96%e8%ac%9b%e7%be%a9-2
SUMMARY:＜ONEGAME＞点数計算強化講義
DESCRIPTION:https://docs.google.com/forms/d/e/1FAIpQLScSO-Rl7JRnq2YsReIazXG
 l0Jkb16YC0-_yLM4-ubmYcjLunw/viewform?usp=pp_url\n点数計算強化授業
 （2名様から開催します）\n・初心者から中級者になる
 為の強化授業です\n\n＜4名の少人数制＞\n17日（木）\n\n
 ①18時～20時　4名\n②20時15分～22時15分　4名\n\n\n\n\n\n31
 日（木）\n①18時～20時　4名\n②20時15分～22時15分　4名\n
 \n\n\n\n\n【料金】3\,500円（女性500円引き）\n【担当】鳴
 海先生\n\n\n＜点数計算苦手な方もちろん大丈夫です！
 ＞\n＜リアル麻雀不慣れでもOK！＞\n＜点数計算＞講義
 内容\n①点数計算の問題集を解きます\n②問題集の解説
 します\n③実戦練習\n\n\n④宿題\n\n・点数計算特訓する
 ための強化講義です\n\n\n\n＜勉強会＞レベル☆～レベル
 ☆☆☆☆\n
ATTACH;FMTTYPE=image/jpeg:https://one-game.jp/wp-content/uploads/2023/07/S
 napshot_341.jpg
CATEGORIES:期間限定勉強会
LOCATION:麻雀スクールOneGame\, 神田須田町1-13-1 リアライズ
 神田ビル3階\, 千代田区\, 東京都\, 101-0041\, 関東地方\, Ja
 pan
X-APPLE-STRUCTURED-LOCATION;VALUE=URI;X-ADDRESS=神田須田町1-13-1 リ
 アライズ神田ビル3階\, 千代田区\, 東京都\, 101-0041\, 関
 東地方\, Japan;X-APPLE-RADIUS=100;X-TITLE=麻雀スクールOneGame:geo
 :0,0
END:VEVENT
BEGIN:VTIMEZONE
TZID:Asia/Tokyo
X-LIC-LOCATION:Asia/Tokyo
BEGIN:STANDARD
DTSTART:20220817T201500
TZOFFSETFROM:+0900
TZOFFSETTO:+0900
TZNAME:JST
END:STANDARD
END:VTIMEZONE
END:VCALENDAR