BEGIN:VCALENDAR
VERSION:2.0
PRODID:-//wp-events-plugin.com//6.4.7.3//EN
TZID:Asia/Tokyo
X-WR-TIMEZONE:Asia/Tokyo
BEGIN:VEVENT
UID:683@one-game.jp
DTSTART;TZID=Asia/Tokyo:20230227T180000
DTEND;TZID=Asia/Tokyo:20230227T220000
DTSTAMP:20230224T131037Z
URL:https://one-game.jp/events/%e9%80%9a%e5%b8%b8%e5%8b%89%e5%bc%b7%e4%bc%
 9a2%e6%9c%88-4
SUMMARY:通常勉強会2月
DESCRIPTION:予約はこちらから！\n\n&nbsp\;\n\n\n\n\n※通常勉強
 会\n【途中参加大歓迎です】【出入り自由】【点数計算
 苦手な方でも大丈夫】\n仕事帰りでも気楽に来れます☆
 彡\n楽しく麻雀を勉強しましょう♬\n点数計算克服やレ
 ベルアップなどクラス分けしながら勉強していきます
 来てくれた方の目標に沿って取り組みます【1月】\n\n【
 ２月】\n7日  　2部：18時～22時\n14日　2部：18時～22時\n2
 1日　2部：18時～22時\n28日　2部：18時～22時\n\n※28日の
 み特別講師の勉強会が入る可能性があります\n\n\n\n＜定
 員&gt\;１２名様\n\n\n【基本料金】1部2500円　女性500円引
 き来店2回目以降の方は、ラインオフィシャルからの予
 約がスムーズです☆\n\n＜何時に来ても大丈夫＞＜出入
 り自由＞＜点数計算苦手な方でも大丈夫＞＜短時間参
 加可能＞\n＜麻雀覚えたい方初心者OK！＞\n\nONEGAME講習
 内容‼＜レベルに合わせて講習をおこないます＞\n\n・
 たん牌（牌を倒しながら打牌のアドバイス）\n・撮影卓
 による検討＜空いている場合開催＞\n・点数計算苦手な
 方もOK!!\n\n全力で目標達成のサポートします【目標を明
 確にしてください】\nなかなか強くなれなくて困ってい
 る人は、一度参加してみてください\n\nネット麻雀：雀
 聖や鳳凰卓クラスまでは導けます\n\n＜勉強会＞レベル
 ☆～レベル☆☆☆☆☆\n\n\n\n\n\n\n
ATTACH;FMTTYPE=image/jpeg:https://one-game.jp/wp-content/uploads/2022/07/S
 napshot_238.png
CATEGORIES:通常勉強会
LOCATION:麻雀スクールOneGame\, 神田須田町1-13-1 リアライズ
 神田ビル3階\, 千代田区\, 東京都\, 101-0041\, 関東地方\, Ja
 pan
X-APPLE-STRUCTURED-LOCATION;VALUE=URI;X-ADDRESS=神田須田町1-13-1 リ
 アライズ神田ビル3階\, 千代田区\, 東京都\, 101-0041\, 関
 東地方\, Japan;X-APPLE-RADIUS=100;X-TITLE=麻雀スクールOneGame:geo
 :0,0
END:VEVENT
BEGIN:VTIMEZONE
TZID:Asia/Tokyo
X-LIC-LOCATION:Asia/Tokyo
BEGIN:STANDARD
DTSTART:20220227T180000
TZOFFSETFROM:+0900
TZOFFSETTO:+0900
TZNAME:JST
END:STANDARD
END:VTIMEZONE
END:VCALENDAR