BEGIN:VCALENDAR
VERSION:2.0
PRODID:-//wp-events-plugin.com//6.4.7.3//EN
TZID:Asia/Tokyo
X-WR-TIMEZONE:Asia/Tokyo
BEGIN:VEVENT
UID:409@one-game.jp
DTSTART;TZID=Asia/Tokyo:20220824T180000
DTEND;TZID=Asia/Tokyo:20220824T220000
DTSTAMP:20220822T085734Z
URL:https://one-game.jp/events/%e9%80%9a%e5%b8%b8%e5%8b%89%e5%bc%b7%e4%bc%
 9a-55
SUMMARY:通常勉強会
DESCRIPTION:\n8月通常講座　＜ONEGAME＞\n\n\n\n＜開催日＞\n【N
 EW】好評につきお試し２部制延長します\n\n楽しく麻雀
 を勉強しましょう♬\n点数計算克服やレベルアップなど
 クラス分けしながら勉強していきます\n\n来てくれた方
 の目標に沿って取り組みます\n\n\n\n予約はこちら！\nhttp
 s://docs.google.com/forms/d/e/1FAIpQLSe0tlMH21B8JAPJfEPx8ecDYXhFnNuKbCQRlQ
 qm9x0166ndMg/viewform?usp=pp_url\n【途中参加大歓迎です】【出
 入り自由】【点数計算苦手な方でも大丈夫】\n仕事帰り
 でも気楽に来れます☆彡【8月】\n\n\n\n【8月】\n23日　  
 2部：18時～22時\n24日　  2部：18時～22時\n\n＜定員&gt\;
 １２名\n\n\n【基本料金】1部2500円　女性500円引き\n\n【
 料金上限】※２部共に出た場合、下記の値段になりま
 す\n＜男性＞3\,500円\n＜女性＞3\,000円\n\n来店2回目以降
 の方は、ラインオフィシャルからの予約がスムーズで
 す☆\n\n＜何時に来ても大丈夫＞＜出入り自由＞＜点数
 計算苦手な方でも大丈夫＞＜短時間参加可能＞\n＜麻雀
 覚えたい方初心者OK！＞\n\nONEGAME講習内容‼＜レベルに
 合わせて講習をおこないます＞\n\n・たん牌（牌を倒し
 ながら打牌のアドバイス）\n・撮影卓による検討＜空い
 ている場合開催＞\n・点数計算苦手な方もOK!!\n\n全力で
 目標達成のサポートします【目標を明確にしてくださ
 い】\nなかなか強くなれなくて困っている人は、一度参
 加してみてください\n\nネット麻雀：雀聖や鳳凰卓クラ
 スまでは導けます\n\n＜勉強会＞レベル☆～レベル☆☆
 ☆☆☆\n\n
ATTACH;FMTTYPE=image/jpeg:https://one-game.jp/wp-content/uploads/2022/07/S
 napshot_238.png
CATEGORIES:通常勉強会
LOCATION:麻雀スクールOneGame\, 神田須田町1-13-1 リアライズ
 神田ビル3階\, 千代田区\, 東京都\, 101-0041\, 関東地方\, Ja
 pan
X-APPLE-STRUCTURED-LOCATION;VALUE=URI;X-ADDRESS=神田須田町1-13-1 リ
 アライズ神田ビル3階\, 千代田区\, 東京都\, 101-0041\, 関
 東地方\, Japan;X-APPLE-RADIUS=100;X-TITLE=麻雀スクールOneGame:geo
 :0,0
END:VEVENT
BEGIN:VTIMEZONE
TZID:Asia/Tokyo
X-LIC-LOCATION:Asia/Tokyo
BEGIN:STANDARD
DTSTART:20210824T180000
TZOFFSETFROM:+0900
TZOFFSETTO:+0900
TZNAME:JST
END:STANDARD
END:VTIMEZONE
END:VCALENDAR