BEGIN:VCALENDAR
VERSION:2.0
PRODID:-//wp-events-plugin.com//6.4.7.3//EN
TZID:Asia/Tokyo
X-WR-TIMEZONE:Asia/Tokyo
BEGIN:VEVENT
UID:156@one-game.jp
DTSTART;TZID=Asia/Tokyo:20220328T140000
DTEND;TZID=Asia/Tokyo:20220328T220000
DTSTAMP:20220312T060533Z
URL:https://one-game.jp/events/%e9%80%9a%e5%b8%b8%e5%8b%89%e5%bc%b7%e4%bc%
 9a%ef%bc%8814%e6%99%82%e3%81%8b%e3%82%8922%e6%99%82%ef%bc%89-8
SUMMARY:通常勉強会（14時から22時）
DESCRIPTION:予約フォーム\n\n↓↓↓\n\nhttps://docs.google.com/form
 s/d/e/1FAIpQLSe7yg9SHQFfjkhiwbjQ6jPvRodn1Tls9dL8Ebmq6l6r13QtTA/viewform?us
 p=pp_url\n\n来店2回目以降の方は、ラインオフィシャルか
 らの予約がスムーズです☆\n\n【料金】1時間1500円\n\n【
 料金上限】\n＜男性＞3\,500円\n＜女性＞＜学生＞3\,000円\
 n\n＜何時に来ても大丈夫＞＜出入り自由＞＜プロアマ
 混合＞＜点数計算苦手な方でも大丈夫＞＜短時間参加
 可能＞\n＜麻雀覚えたい方初心者OK！＞\n\nONEGAME講習内
 容‼＜レベルに合わせて講習をおこないます＞\n\n・た
 ん牌（牌を倒しながら打牌のアドバイス）\n\n・撮影卓
 による検討＜空いている場合開催＞\n\n・ネット麻雀の
 牌譜を見ながらアドバイス　など\n\n全力で目標達成の
 サポートします【目標を明確にしてください】\nなかな
 か強くなれなくて困っている人は、一度参加してみて
 ください\n\nネット麻雀：雀聖や鳳凰卓クラスまでは導
 けます\n\n＜勉強会＞レベル☆～レベル☆☆☆☆☆
ATTACH;FMTTYPE=image/jpeg:https://one-game.jp/wp-content/uploads/2022/03/S
 napshot_170.png
CATEGORIES:通常勉強会
LOCATION:麻雀スクールOneGame\, 神田須田町1-13-1 リアライズ
 神田ビル3階\, 千代田区\, 東京都\, 101-0041\, 関東地方\, Ja
 pan
X-APPLE-STRUCTURED-LOCATION;VALUE=URI;X-ADDRESS=神田須田町1-13-1 リ
 アライズ神田ビル3階\, 千代田区\, 東京都\, 101-0041\, 関
 東地方\, Japan;X-APPLE-RADIUS=100;X-TITLE=麻雀スクールOneGame:geo
 :0,0
END:VEVENT
BEGIN:VTIMEZONE
TZID:Asia/Tokyo
X-LIC-LOCATION:Asia/Tokyo
BEGIN:STANDARD
DTSTART:20210328T140000
TZOFFSETFROM:+0900
TZOFFSETTO:+0900
TZNAME:JST
END:STANDARD
END:VTIMEZONE
END:VCALENDAR