BEGIN:VCALENDAR
VERSION:2.0
PRODID:-//wp-events-plugin.com//6.4.7.3//EN
TZID:Asia/Tokyo
X-WR-TIMEZONE:Asia/Tokyo
BEGIN:VEVENT
UID:1580@one-game.jp
DTSTART;TZID=Asia/Tokyo:20240313T201500
DTEND;TZID=Asia/Tokyo:20240313T221500
DTSTAMP:20240312T131205Z
URL:https://one-game.jp/events/%e7%89%8c%e5%8a%b9%e7%8e%87%e6%8e%88%e6%a5%
 ad%ef%bd%9e%e3%83%86%e3%82%ad%e3%82%b9%e3%83%88%ef%bc%91%ef%bd%9e-2
SUMMARY:牌効率授業～テキスト１～
DESCRIPTION:【テキスト当日お配りします】\n\n牌効率強化
 授業【1】（単独孤立牌・ターツの優劣）☆☆\n牌効率
 強化授業【2】（4連形の基礎編）  ☆☆\n牌効率強化授
 業【3】（4連形の応用編）☆☆☆～☆☆☆☆\n牌効率強
 化授業【4】（7連形の基礎編）☆☆\n牌効率強化授業【5
 】（7連系の応用編）☆☆☆\n\n授業難易度☆☆～☆☆☆
 ☆\n\n\n【料金】3\,500円（女性500円引き）\n【担当】久山
 先生\n\n\n＜点数計算苦手な方でも大丈夫＞\n＜リアル麻
 雀不慣れでもOK！＞\n＜牌効率＞講義内容\n①牌効率の
 座学\n②座学についての問題集+解説\n③たん牌による実
 戦練習\n\n\n&nbsp\;\n\n・初心者から中級者になる為の強化
 授業です\n\n\n＜勉強会＞レベル☆～レベル☆☆☆☆\n
ATTACH;FMTTYPE=image/jpeg:https://one-game.jp/wp-content/uploads/2023/07/I
 MG_5270.jpeg
CATEGORIES:牌効率授業
LOCATION:麻雀スクールOneGame\, 神田須田町1-13-1 リアライズ
 神田ビル3階\, 千代田区\, 東京都\, 101-0041\, 関東地方\, Ja
 pan
X-APPLE-STRUCTURED-LOCATION;VALUE=URI;X-ADDRESS=神田須田町1-13-1 リ
 アライズ神田ビル3階\, 千代田区\, 東京都\, 101-0041\, 関
 東地方\, Japan;X-APPLE-RADIUS=100;X-TITLE=麻雀スクールOneGame:geo
 :0,0
END:VEVENT
BEGIN:VTIMEZONE
TZID:Asia/Tokyo
X-LIC-LOCATION:Asia/Tokyo
BEGIN:STANDARD
DTSTART:20230314T201500
TZOFFSETFROM:+0900
TZOFFSETTO:+0900
TZNAME:JST
END:STANDARD
END:VTIMEZONE
END:VCALENDAR