BEGIN:VCALENDAR
VERSION:2.0
PRODID:-//wp-events-plugin.com//6.4.7.3//EN
TZID:Asia/Tokyo
X-WR-TIMEZONE:Asia/Tokyo
BEGIN:VEVENT
UID:1105@one-game.jp
DTSTART;TZID=Asia/Tokyo:20230926T150000
DTEND;TZID=Asia/Tokyo:20230926T173000
DTSTAMP:20230922T090921Z
URL:https://one-game.jp/events/%e6%a5%bd%e3%81%97%e3%81%8f%e9%ba%bb%e9%9b%
 80%e3%81%ab%e8%a7%a6%e3%82%8c%e5%90%88%e3%81%8a%e3%81%86%e3%81%ae%e4%bc%9a
 %e3%80%80%e8%ac%9b%e5%b8%ab%ef%bc%9a%e5%92%8c%e6%b3%89%e7%94%b1%e5%b8%8c-2
 5
SUMMARY:楽しく麻雀に触れ合おうの会　講師：和泉由希子
 プロ
DESCRIPTION:開催日: 2023年 9月26日（火）\n開催地: 東京都千
 代田区神田須田町1-13-1　3階　麻雀スクールOneGame\n\n1部1
 2時～14時30分　募集枠8名\n2部15時～17時30分　募集枠8名\
 n\nこちらは、先着順になります\n1部・受講料5\,000円\n2
 部・受講料5\,000円\n１・２部セットも可です＜ルール＞
 \nMリーグルール＜具体的な勉強会内容＞\n麻雀を打ち慣
 れていない方でもどなたでも参加OK！\n\n和泉プロと楽
 しく麻雀に触れ合おう！という会です☆＜参加資格＞\n
 麻雀に慣れたい方\n麻雀が強くなりたい方\n初心者の方
 大歓迎です☆彡\n点数計算わからなくてもOKです☆彡＜
 お問い合わせ＞OneGameのTwitter\nhttps://twitter.com/onegame_onegam
 e DMまでお願いします\n※非常に残念ながら18歳未満の
 方はご利用できません
ATTACH;FMTTYPE=image/jpeg:https://one-game.jp/wp-content/uploads/2023/06/I
 MG_5195.jpeg
CATEGORIES:和泉プロ
LOCATION:麻雀スクールOneGame\, 神田須田町1-13-1 リアライズ
 神田ビル3階\, 千代田区\, 東京都\, 101-0041\, 関東地方\, Ja
 pan
X-APPLE-STRUCTURED-LOCATION;VALUE=URI;X-ADDRESS=神田須田町1-13-1 リ
 アライズ神田ビル3階\, 千代田区\, 東京都\, 101-0041\, 関
 東地方\, Japan;X-APPLE-RADIUS=100;X-TITLE=麻雀スクールOneGame:geo
 :0,0
END:VEVENT
BEGIN:VTIMEZONE
TZID:Asia/Tokyo
X-LIC-LOCATION:Asia/Tokyo
BEGIN:STANDARD
DTSTART:20220926T150000
TZOFFSETFROM:+0900
TZOFFSETTO:+0900
TZNAME:JST
END:STANDARD
END:VTIMEZONE
END:VCALENDAR