BEGIN:VCALENDAR
VERSION:2.0
PRODID:-//wp-events-plugin.com//6.4.7.3//EN
TZID:Asia/Tokyo
X-WR-TIMEZONE:Asia/Tokyo
BEGIN:VEVENT
UID:885@one-game.jp
DTSTART;TZID=Asia/Tokyo:20230605T130000
DTEND;TZID=Asia/Tokyo:20230605T163000
DTSTAMP:20230529T111702Z
URL:https://one-game.jp/events/%e5%b9%b3%e6%97%a5%e3%82%82%e3%83%af%e3%82%
 a4%e3%83%af%e3%82%a4%e9%ba%bb%e9%9b%80%ef%bc%9c%e7%82%b9%e6%95%b0%e8%a8%88
 %e7%ae%97%e3%81%a8%e9%ba%bb%e9%9b%80%e3%81%ab%e6%85%a3%e3%82%8c%e3%82%88-2
 6
SUMMARY:平日もワイワイ麻雀＜点数計算と麻雀に慣れよう
 ！！＞
DESCRIPTION:https://docs.google.com/forms/d/e/1FAIpQLSf3jHWF-HXpB8poZMHAxjd
 iUhrGbiUOqG9ugV1-fedce83a8A/viewform?usp=pp_url\n【平日の早い時間
 に講義がスタートします】 講義内容：☆～☆☆\n\n※画
 像を使った【牌効率授業】付き（下に画像あり）\n\n平
 日もワイワイ麻雀＜点数計算と麻雀に慣れよう！！＞\n
 \n\n13時～16時30分（途中参加＆退出可能）※備考欄に記
 入をお願いします\n\n【授業料】2\,500円（女性＆学生500
 円引き）\n\nNEW：学割\n\n\n【講義内容】（その日集まっ
 た人のレベル感で多少の前後あり）\n■点数計算の流れ
 の説明\n■実際の点数をを作ってみよう\n■牌効率につ
 いて\n■対局の中で実践\n■麻雀牌の扱い方もレクチャ
 ー\n■打牌選択の質問\n\n点数計算はメカニズムやつま
 ずきやすいポイントを分かりやすく解説！\n\n\n初心者
 の大敵\n点数計算と牌裁きなどを覚えつつみんなで楽し
 くリアル麻雀に慣れてみよう！！\n\n点数計算は練習す
 ればどんどん出来るようになるのですが、雀荘はちょ
 っと怖い。\nそんな方の声からスタッフが全力サポート
 しながら慣れていく講座です\n\nぜんぜんできなくても
 大丈夫☆\n推しの麻雀プロがいるイベントに参加したい
 けど麻雀が不安\n主婦で麻雀したいけど夜は都合がつか
 ない\nそんな方々の背中を押す講座となっています！\n\
 n楽しく麻雀がしたい方も大歓迎！！\n\n\nスケジュール\
 n【6月】\n5日（月）13時～16時30分\n6日（火）13時～16時30
 分\n12日（月）13時～16時30分\n13日（火）13時～16時30分\n1
 9日（月）13時～16時30分\n20日（火）13時～16時30分\n26日
 （月）13時～16時30分\n27日（火）13時～16時30分\n\n予約後
 、定員を超えている場合のみご連絡しております\nご不
 明な点がございましたら、お気軽にお問い合わせくだ
 さい☆\n
ATTACH;FMTTYPE=image/jpeg:https://one-game.jp/wp-content/uploads/2023/02/S
 napshot_1126.png
CATEGORIES:平日わいわい
LOCATION:麻雀スクールOneGame\, 神田須田町1-13-1 リアライズ
 神田ビル3階\, 千代田区\, 東京都\, 101-0041\, 関東地方\, Ja
 pan
X-APPLE-STRUCTURED-LOCATION;VALUE=URI;X-ADDRESS=神田須田町1-13-1 リ
 アライズ神田ビル3階\, 千代田区\, 東京都\, 101-0041\, 関
 東地方\, Japan;X-APPLE-RADIUS=100;X-TITLE=麻雀スクールOneGame:geo
 :0,0
END:VEVENT
BEGIN:VTIMEZONE
TZID:Asia/Tokyo
X-LIC-LOCATION:Asia/Tokyo
BEGIN:STANDARD
DTSTART:20220605T130000
TZOFFSETFROM:+0900
TZOFFSETTO:+0900
TZNAME:JST
END:STANDARD
END:VTIMEZONE
END:VCALENDAR